BEGIN:VCALENDAR
VERSION:2.0
BEGIN:VEVENT
STATUS:CONFIRMED
DESCRIPTION:
CLASS:PUBLIC
UID:c661e5cb-ffbf-4f6e-93d9-a6d16066c163
URL:https://nyght.ch/events/c661e5cb-ffbf-4f6e-93d9-a6d16066c163
SUMMARY:Suisse Diagonales Jazz
LAST-MODIFIED:20251216T182407Z
DTSTAMP:20260424T011645Z
DTSTART:20260117T150000Z
DTEND:20260117T220000Z
END:VEVENT
METHOD:PUBLISH
PRODID:-//Nyght//iCal API//EN
CALSCALE:GREGORIAN
END:VCALENDAR