BEGIN:VCALENDAR
VERSION:2.0
BEGIN:VEVENT
STATUS:CONFIRMED
DESCRIPTION:21ème édition des Ici D'ici. Du super local pour une superbe 
 soirée 
CLASS:PUBLIC
UID:d65b22f3-f488-428c-b83d-58101fff53f3
URL:https://nyght.ch/events/d65b22f3-f488-428c-b83d-58101fff53f3
SUMMARY:Ici d'Ici #21
LAST-MODIFIED:20251028T073823Z
DTSTAMP:20260425T224244Z
DTSTART:20251107T200000Z
DTEND:20251107T230000Z
END:VEVENT
METHOD:PUBLISH
PRODID:-//Nyght//iCal API//EN
CALSCALE:GREGORIAN
END:VCALENDAR