BEGIN:VCALENDAR
VERSION:2.0
BEGIN:VEVENT
STATUS:CONFIRMED
DESCRIPTION:
CLASS:PUBLIC
UID:db0bfbbc-2ded-4ee0-b3f9-36888a121d86
URL:https://nyght.ch/events/db0bfbbc-2ded-4ee0-b3f9-36888a121d86
SUMMARY:FAUSTE (Vernissage) + Charlyne (Vernissage) + After Mezita 
LAST-MODIFIED:20251216T182421Z
DTSTAMP:20260423T183459Z
DTSTART:20260130T150000Z
DTEND:20260131T014500Z
END:VEVENT
METHOD:PUBLISH
PRODID:-//Nyght//iCal API//EN
CALSCALE:GREGORIAN
END:VCALENDAR