BEGIN:VCALENDAR
VERSION:2.0
BEGIN:VEVENT
STATUS:CONFIRMED
DESCRIPTION:
CLASS:PUBLIC
UID:ddd55e64-4bb8-4773-92d1-480673405965
URL:https://nyght.ch/events/ddd55e64-4bb8-4773-92d1-480673405965
SUMMARY:PSU 23 
LAST-MODIFIED:20260224T180938Z
DTSTAMP:20260419T170445Z
DTSTART:20260418T180000Z
DTEND:20260418T213000Z
END:VEVENT
METHOD:PUBLISH
PRODID:-//Nyght//iCal API//EN
CALSCALE:GREGORIAN
END:VCALENDAR