BEGIN:VCALENDAR
VERSION:2.0
BEGIN:VEVENT
STATUS:CONFIRMED
DESCRIPTION:
CLASS:PUBLIC
UID:df3efe79-50f6-4e1a-8ae4-bfda2c51b82f
URL:https://nyght.ch/events/df3efe79-50f6-4e1a-8ae4-bfda2c51b82f
SUMMARY:Julien Doquin de Saint Preux
LAST-MODIFIED:20251216T182452Z
DTSTAMP:20260423T062837Z
DTSTART:20260220T160000Z
DTEND:20260220T220000Z
END:VEVENT
METHOD:PUBLISH
PRODID:-//Nyght//iCal API//EN
CALSCALE:GREGORIAN
END:VCALENDAR