BEGIN:VCALENDAR
VERSION:2.0
BEGIN:VEVENT
STATUS:CONFIRMED
DESCRIPTION:2 pianistes s'affrontent avec un juge pour driller l'évènemen
 t 
CLASS:PUBLIC
UID:e5cb9a41-b742-4b5e-9e23-58cf7994d815
URL:https://nyght.ch/events/e5cb9a41-b742-4b5e-9e23-58cf7994d815
SUMMARY:Duel de Pianos
LAST-MODIFIED:20251028T074206Z
DTSTAMP:20260425T164843Z
DTSTART:20251120T190000Z
DTEND:20251120T210000Z
END:VEVENT
METHOD:PUBLISH
PRODID:-//Nyght//iCal API//EN
CALSCALE:GREGORIAN
END:VCALENDAR