BEGIN:VCALENDAR
VERSION:2.0
BEGIN:VEVENT
STATUS:CONFIRMED
DESCRIPTION:
CLASS:PUBLIC
UID:e6122cf2-1e25-40d6-b226-669355da84fc
URL:https://nyght.ch/events/e6122cf2-1e25-40d6-b226-669355da84fc
SUMMARY:Choc Show avec Fondue aux lapins de Pâques
LAST-MODIFIED:20260224T085553Z
DTSTAMP:20260419T223501Z
DTSTART:20260415T113000Z
DTEND:20260415T160000Z
END:VEVENT
METHOD:PUBLISH
PRODID:-//Nyght//iCal API//EN
CALSCALE:GREGORIAN
END:VCALENDAR