BEGIN:VCALENDAR
VERSION:2.0
BEGIN:VEVENT
STATUS:CONFIRMED
DESCRIPTION:
CLASS:PUBLIC
UID:e9cc56ec-9aef-4dc8-b07c-7c97eed8b211
URL:https://nyght.ch/events/e9cc56ec-9aef-4dc8-b07c-7c97eed8b211
SUMMARY:FULL METAL #80 Emerald 
LAST-MODIFIED:20251028T074303Z
DTSTAMP:20260424T225908Z
DTSTART:20251206T150000Z
DTEND:20251206T230000Z
END:VEVENT
METHOD:PUBLISH
PRODID:-//Nyght//iCal API//EN
CALSCALE:GREGORIAN
END:VCALENDAR