BEGIN:VCALENDAR
VERSION:2.0
BEGIN:VEVENT
STATUS:CONFIRMED
DESCRIPTION:
CLASS:PUBLIC
UID:f8d7cf43-9ebe-4c14-8e1d-841debfd0722
URL:https://nyght.ch/events/f8d7cf43-9ebe-4c14-8e1d-841debfd0722
SUMMARY:Citron Sucré + Fou du Pré
LAST-MODIFIED:20260224T085527Z
DTSTAMP:20260422T142614Z
DTSTART:20260319T190000Z
DTEND:20260319T223000Z
END:VEVENT
METHOD:PUBLISH
PRODID:-//Nyght//iCal API//EN
CALSCALE:GREGORIAN
END:VCALENDAR